BEGIN:VCALENDAR
PRODID:-//AT Content Types//AT Event//EN
VERSION:1.0
BEGIN:VEVENT
DTSTART:20141026T090000Z
DTEND:20141026T100000Z
DCREATED:20140912T163441Z
UID:ATEvent-f5f6fae9d1caa8c3ebf584c6392885dc
SEQUENCE:0
LAST-MODIFIED:20140912T163449Z
SUMMARY:Családi istentisztelet a templomban
DESCRIPTION:Családi istentisztelet a templomban\, utána szeretetvend
 égség.
PRIORITY:3
TRANSP:0
END:VEVENT
END:VCALENDAR
