BEGIN:VCALENDAR
PRODID:-//AT Content Types//AT Event//EN
VERSION:2.0
METHOD:PUBLISH
BEGIN:VEVENT
DTSTAMP:20260421T215116Z
CREATED:20140912T162421Z
UID:ATEvent-b343a0113d9744ba1ee70e992dac6272
LAST-MODIFIED:20141123T145538Z
SUMMARY:Családi istentisztelet
DTSTART:20141221T090000Z
DTEND:20141221T100000Z
DESCRIPTION:Családi istentisztelet a templomban\, utána szeretetvend
 égség.
CLASS:PUBLIC
END:VEVENT
END:VCALENDAR
