BEGIN:VCALENDAR
PRODID:-//AT Content Types//AT Event//EN
VERSION:1.0
BEGIN:VEVENT
DTSTART:20141106T170000Z
DTEND:20141106T180000Z
DCREATED:20140912T162909Z
UID:ATEvent-6ba0af060d0e886c0f05dd2448fd5013
SEQUENCE:0
LAST-MODIFIED:20140912T162916Z
SUMMARY:FelnÅ‘tt bibliaÃ³ra
DESCRIPTION:Nov. 6-tÃ³l\, kÃ©thetente csÃ¼tÃ¶rtÃ¶k estÃ©nkÃ©nt 18-Ã³rÃ
 ¡tÃ³l felnÅ‘tt bibliaÃ³rÃ¡ra hÃ­vunk mindenkit\, akit Ã©rdekel\, hogy 
 mitÅ‘l evangÃ©likus az evangÃ©likus istentisztelet.
PRIORITY:3
TRANSP:0
END:VEVENT
END:VCALENDAR
