BEGIN:VCALENDAR
PRODID:-//AT Content Types//AT Event//EN
VERSION:2.0
METHOD:PUBLISH
BEGIN:VEVENT
DTSTAMP:20260421T164607Z
CREATED:20140912T164205Z
UID:ATEvent-20a12752d3ea7d91cc66d45250023cca
LAST-MODIFIED:20141103T175130Z
SUMMARY:FilmKedd
DTSTART:20141104T170000Z
DTEND:20141104T190000Z
DESCRIPTION:nov.4. kedd este 18-órától FilmKedd\: Hétköznai menny
 ország
CLASS:PUBLIC
END:VEVENT
END:VCALENDAR
