BEGIN:VCALENDAR
PRODID:-//AT Content Types//AT Event//EN
VERSION:2.0
METHOD:PUBLISH
BEGIN:VEVENT
DTSTAMP:20260421T230740Z
CREATED:20140912T164749Z
UID:ATEvent-69e1abbee8a38c1d3045eb2b51b21ad9
LAST-MODIFIED:20141123T145256Z
SUMMARY:Gyülekezeti hitoktatás Ovisoknak
DTSTART:20141126T153000Z
DTEND:20141126T163000Z
CLASS:PUBLIC
END:VEVENT
END:VCALENDAR
