BEGIN:VCALENDAR
PRODID:-//AT Content Types//AT Event//EN
VERSION:2.0
METHOD:PUBLISH
BEGIN:VEVENT
DTSTAMP:20260421T201629Z
CREATED:20140912T164337Z
UID:ATEvent-f2c74042991bdd2dcaafbaaf7c1059ac
LAST-MODIFIED:20140912T164346Z
SUMMARY:Olvasókör
DTSTART:20141016T160000Z
DTEND:20141016T170000Z
DESCRIPTION:Okt. 16-tól kéthetente csütörtök esténként 18-órá
 tól olvasókörbe hívunk minden olvasni szerető\, és az olvasottak
 ról szívesen beszélgető testvérünket. Mert olvasni emberi dolog.
 ..
CLASS:PUBLIC
END:VEVENT
END:VCALENDAR
